BEGIN:VCALENDAR
VERSION:2.0
PRODID:Imitheme.com 
BEGIN:VEVENT
UID:20260421T0456171581846631
DTSTAMP;TZID=UTC:2026-04-21 04:56:17
DTSTART;TZID=America/Los_Angeles:20250622T000000
DTEND;TZID=America/Los_Angeles:20250622T000000
SUMMARY:Church Family Meeting
LOCATION:
DESCRIPTION:Join the Ministry Team as the 2026 Ministry Plan is presented. Absentee ballots are available on the Church Life kiosk.
URL:https://inspiritchurch.org/eventer/listening-circle
END:VEVENT
END:VCALENDAR
