BEGIN:VCALENDAR
VERSION:2.0
PRODID:Imitheme.com 
BEGIN:VEVENT
UID:20260421T061312599509716
DTSTAMP;TZID=UTC:2026-04-21 06:13:12
DTSTART;TZID=America/Los_Angeles:20251207T000000
DTEND;TZID=America/Los_Angeles:20251207T000000
SUMMARY:Church Family Meeting
LOCATION:
DESCRIPTION:Join the Ministry Team as the 2026 Ministry Plan is presented. Absentee ballots are available on the Church Life kiosk.
URL:https://inspiritchurch.org/eventer/listening-circle
END:VEVENT
END:VCALENDAR
