BEGIN:VCALENDAR
VERSION:2.0
PRODID:Imitheme.com 
BEGIN:VEVENT
UID:20260424T0930567944719
DTSTAMP;TZID=UTC:2026-04-24 09:30:56
DTSTART;TZID=America/Los_Angeles:20260425T000000
DTEND;TZID=America/Los_Angeles:20260425T000000
SUMMARY:God's Club
LOCATION:
DESCRIPTION:On the 4th Saturday of every month, we partner with United in Christ Ministries to GO and play some games, share a Bible story, do a craft, and serve lunch to the kids in the Black Hills neighborhood.
URL:https://inspiritchurch.org/eventer/gods-club-2
END:VEVENT
END:VCALENDAR
