BEGIN:VCALENDAR
VERSION:2.0
PRODID:Imitheme.com 
BEGIN:VEVENT
UID:20260424T111454411942860
DTSTAMP;TZID=UTC:2026-04-24 11:14:54
DTSTART;TZID=America/Los_Angeles:20260505T000000
DTEND;TZID=America/Los_Angeles:20260505T000000
SUMMARY:Prayer Gathering
LOCATION:inSpirit Church
DESCRIPTION:Join us at inSpirit as we gather together for a time of sharing and praying through what God has laid on our hearts. If you have something you would like us to pray for, please contact Pastor Ryan.
URL:https://inspiritchurch.org/eventer/prayer-gathering
END:VEVENT
END:VCALENDAR
