BEGIN:VCALENDAR
VERSION:2.0
PRODID:Imitheme.com 
BEGIN:VEVENT
UID:20260424T093211672189149
DTSTAMP;TZID=UTC:2026-04-24 09:32:11
DTSTART;TZID=America/Los_Angeles:20260502T000000
DTEND;TZID=America/Los_Angeles:20260502T000000
SUMMARY:Saturday SERVE
LOCATION:
DESCRIPTION:Join us Saturday morning, May 2, as we serve our neighbors and live out being the hands and feet of Jesus. We’ll start at 8:30am at church with prayer and light snacks, then head out in groups for spring yard clean-up and small projects for those in need. Ignite Youth will be joining too! If you haven\'t RSVPed and plan to join, please let us know asap by emailing beincluded@inspiritchurch.org. Come be part of a meaningful morning!
URL:https://inspiritchurch.org/eventer/saturday-serve
END:VEVENT
END:VCALENDAR
