BEGIN:VCALENDAR
VERSION:2.0
PRODID:Imitheme.com 
BEGIN:VEVENT
UID:20260424T094513676926803
DTSTAMP;TZID=UTC:2026-04-24 09:45:13
DTSTART;TZID=America/Los_Angeles:20260503T000000
DTEND;TZID=America/Los_Angeles:20260503T000000
SUMMARY:Ignite Youth Group - Middle School
LOCATION:inSpirit Church
DESCRIPTION:Middle schoolers, this one’s for you! Join us for Ignite Youth Group Sunday from 3:30–5:30pm. We’ll have food, games, and time to hang out with friends while learning more about faith in a fun and welcoming way. Bring your energy, bring your friends, and get ready for a great afternoon—we can’t wait to see you!
URL:https://inspiritchurch.org/eventer/ignite-youth-group-middle-school
END:VEVENT
END:VCALENDAR
