BEGIN:VCALENDAR
VERSION:2.0
PRODID:Imitheme.com 
BEGIN:VEVENT
UID:20260424T1111581443840242
DTSTAMP;TZID=UTC:2026-04-24 11:11:58
DTSTART;TZID=America/Los_Angeles:20260503T000000
DTEND;TZID=America/Los_Angeles:20260503T000000
SUMMARY:Ignite Youth Group - High School
LOCATION:inSpirit Church
DESCRIPTION:High schoolers, you’re invited to join us for Ignite Youth Group Sunday from 6 - 8pm! Come hang out, enjoy some great food, and connect with friends as we dive into real conversations about faith and life. Whether it’s your first time or you’ve been here before, there’s a place for you. Bring your appetite and your friends - we’ll save you a seat!
URL:https://inspiritchurch.org/eventer/ignite-youth-group-high-school
END:VEVENT
END:VCALENDAR
