BEGIN:VCALENDAR
VERSION:2.0
PRODID:Imitheme.com 
BEGIN:VEVENT
UID:20260424T1116441665381241
DTSTAMP;TZID=UTC:2026-04-24 11:16:44
DTSTART;TZID=America/Los_Angeles:20260517T000000
DTEND;TZID=America/Los_Angeles:20260517T000000
SUMMARY:Sunday Worship
LOCATION:inSpirit Church
DESCRIPTION:You’re invited to gather with us on Sundays for a time of worship, encouragement, and community. Come as you are, bring your family and friends, and experience a place where you are welcomed and loved. We can’t wait to worship with you!
URL:https://inspiritchurch.org/eventer/sunday-worship
END:VEVENT
END:VCALENDAR
